Workbook

Sheet 비율표
A1: 2025년도 한국뇌성마비복지회부산울산경남지회 예산(안)
F3: <단위 :천원>
A4: 세 입 | D4: 세 출
A5: 과 목 | B5: 금 액 | C5: 비율 | D5: 과 목 | E5: 금 액 | F5: 비율
A6: 계 | B6: =B7+B8+B9+B10+B11 -> 390118.86 | C6: =SUM(C7:C11) -> 1 | D6: 계 | E6: =E7+E8+E9+E10+E12+E11 -> 390118.86 | F6: =SUM(F7:F12) -> 1
A7: 보 조 금 수 입 | B7: =예산총괄표!E6 -> 74600 | C7: =B7/B6 -> 0.19122377 | D7: 사 무 비 | E7: =예산총괄표!L6 -> 133574.32 | F7: =E7/E6 -> 0.3423939
A8: 후 원 금 수 입 | B8: =예산총괄표!E11 -> 93500 | C8: =B8/B6 -> 0.23967054 | D8: 재 산 조 성 비 | E8: =예산총괄표!L22 -> 2000 | F8: =E8/E6 -> 0.0051266426
A9: 전 입 금 | B9: =예산총괄표!E15 -> 31500 | C9: =B9/B6 -> 0.080744621 | D9: 사 업 비 | E9: =예산총괄표!L25 -> 45805.64 | F9: =E9/E6 -> 0.11741457
A10: 이 월 금 | B10: =예산총괄표!E18 -> 189958.86 | C10: =B10/B6 -> 0.48692561 | D10: 예비비 및 잡지출 | E10: =예산총괄표!L38+예산총괄표!L40 -> 2100 | F10: =E10/E6 -> 0.0053829748
A11: 잡 수 입 | B11: =예산총괄표!E21 -> 560 | C11: =B11/B6 -> 0.0014354599 | D11: 전출금 | E11: =예산총괄표!L42 -> 20000 | F11: =E11/E6 -> 0.051266426
D12: 적립금 | E12: =예산총괄표!L44 -> 186638.9 | F12: =E12/E6 -> 0.47841548

Sheet 예산총칙
A2: 제1조(예산의 규모) 한국뇌성마비복지회부산울산경남지회의 2025년도 예산(안) 세입.세출 예산 총액은 각각 390,118,865원으로 한다.
A3: 제2조(예산의 내역)
A4: 1. 세입의 주요 재원은 다음과 같다.
A5: 경상보조금 | E5: =세입세출!G8 -> 58000000
A6: 기타보조금 | E6: =세입세출!G10 -> 2600000
A7: 프로그램지원 | E7: =세입세출!G13 -> 14000000
A8: 후원금 수입 | E8: =세입세출!G15 -> 93500000
A9: 전입금 | E9: =세입세출!G23 -> 31500000
A10: 전년도이월금 | E10: =세입세출!G29 -> 189958865
A11: 잡수입 | E11: =세입세출!G36 -> 560000
A12: 2. 세출의 내용은 다음과 같다.
A13: 인건비 | E13: =세입세출!M46 -> 114437520
A14: 업무추진비 | E14: =세입세출!M78 -> 5400000
A15: 운영비 | E15: =세입세출!M89 -> 13736800
A16: 재산조성비 | E16: =세입세출!M116 -> 2000000
A17: 사업비 | E17: =세입세출!M127 -> 45805640
A18: 잡지출 | E18: =세입세출!M207 -> 100000
A19: 예비비 및 기타 | E19: =세입세출!M210 -> 2000000
A20: 전출금 | E20: =세입세출!M212 -> 20000000
A21: 적립금 | E21: =세입세출!M215 -> 186638905
A23: 제3조(예산의 전용) 예산 전용이 긴박한 경우 시설의 장이 우선 집행하고 상임위원회의 결의를 얻도록 한다.

Sheet 예산총괄표
A1: 예산총괄표(1) | M1: (단위: 천원)
A2: 세 입 | H2: 세 출
A3: 관 | B3: 항 | C3: 목 | D3: 2024년 2차 | E3: 2025년 예산(안) | F3: 증 | G3: 감 | H3: 관 | I3: 항 | J3: 목 | K3: 2024년 2차 | L3: 2025년 예산(안) | M3: 증 | N3: 감
D4: 추경예산 | F4: 액수 | G4: 비율(%) | K4: 추경예산 | M4: 액수 | N4: 비율(%)
A5: 총 계 | D5: =세입세출!D5 -> 394370.28 | E5: =세입세출!E5 -> 390118.86 | F5: =ROUNDUP(E5-D5,0) -> -4252 | G5: =F5/D5% -> -1.0781745 | H5: 총 계 | K5: =세입세출!D44 -> 394370.28 | L5: =세입세출!E44 -> 390118.86 | M5: =ROUNDUP(L5-K5,0) -> -4252 | N5: =M5/K5% -> -1.0781745
A6: 보조금수입 | B6: 계 | D6: =세입세출!D6 -> 80615.02 | E6: =세입세출!E6 -> 74600 | F6: =E6-D6 -> -6015.02 | G6: =F6/D6% -> -7.4614135 | H6: 사무비 | I6: 계 | K6: =세입세출!D45 -> 128993.49 | L6: =세입세출!E45 -> 133574.32 | M6: =L6-K6 -> 4580.83 | N6: =M6/K6% -> 3.5512102
B7: 보조금수입 | C7: 계 | D7: =세입세출!D7 -> 80615.02 | E7: =세입세출!E7 -> 74600 | F7: =E7-D7 -> -6015.02 | G7: =F7/D7% -> -7.4614135 | I7: 인건비 | J7: 계 | K7: =세입세출!D46 -> 109796.69 | L7: =세입세출!E46 -> 114437.52 | M7: =L7-K7 -> 4640.83 | N7: =M7/K7% -> 4.2267485
C8: 경상보조금 | D8: =세입세출!D8 -> 58015.02 | E8: =세입세출!E8 -> 58000 | F8: =E8-D8 -> -15.02 | G8: =F8/D8% -> -0.025889847 | J8: 급 여 | K8: =세입세출!D47 -> 71941.2 | L8: =세입세출!E47 -> 73384.8 | M8: =L8-K8 -> 1443.6 | N8: =M8/K8% -> 2.0066388
C9: 기타보조금 | D9: =세입세출!D10 -> 2600 | E9: =세입세출!E10 -> 2600 | F9: =E9-D9 -> 0 | G9: =F9/D9% -> 0 | J9: 제 수 당 | K9: =세입세출!D52 -> 21580.72 | L9: =세입세출!E52 -> 24045.28 | M9: =L9-K9 -> 2464.56 | N9: =M9/K9% -> 11.420194
C10: 프로그램지원 | D10: =세입세출!D13 -> 20000 | E10: =세입세출!E13 -> 14000 | F10: =E10-D10 -> -6000 | G10: =F10/D10% -> -30 | J10: 퇴직금및 적립금 | K10: =세입세출!D62 -> 5810.16 | L10: =세입세출!E62 -> 6135.84 | M10: =L10-K10 -> 325.68 | N10: =M10/K10% -> 5.6053534
A11: 후원금수입 | B11: 계 | D11: =세입세출!D15 -> 113500 | E11: =세입세출!E15 -> 93500 | F11: =E11-D11 -> -20000 | G11: =F11/D11% -> -17.621145 | J11: 사회보험부담금 | K11: =세입세출!D66 -> 8864.61 | L11: =세입세출!E66 -> 9271.6 | M11: =L11-K11 -> 406.99 | N11: =M11/K11% -> 4.5911777
B12: 후원금수입 | C12: 계 | D12: =세입세출!D16 -> 113500 | E12: =세입세출!E16 -> 93500 | F12: =E12-D12 -> -20000 | G12: =F12/D12% -> -17.621145 | J12: 기타후생경비 | K12: =세입세출!D74 -> 1600 | L12: =세입세출!E74 -> 1600 | M12: =L12-K12 -> 0 | N12: =M12/K12% -> 0
C13: 지정후원금 | D13: =세입세출!D17 -> 77500 | E13: =세입세출!E17 -> 57500 | F13: =E13-D13 -> -20000 | G13: =F13/D13% -> -25.806452 | I13: 업무추진비 | J13: 계 | K13: =세입세출!D78 -> 5400 | L13: =세입세출!E78 -> 5400 | M13: =L13-K13 -> 0 | N13: =M13/K13% -> 0
C14: 비지정후원금 | D14: =세입세출!D21 -> 36000 | E14: =세입세출!E21 -> 36000 | F14: =E14-D14 -> 0 | G14: =F14/D14% -> 0 | J14: 기관운영비 | K14: =세입세출!D79 -> 4200 | L14: =세입세출!E79 -> 4200 | M14: 0 | N14: =M14/K14% -> 0
A15: 전입금 | B15: 계 | D15: =세입세출!D23 -> 20800 | E15: =세입세출!E23 -> 31500 | F15: =E15-D15 -> 10700 | G15: =F15/D15% -> 51.442308 | J15: 회의비 | K15: =세입세출!D82 -> 1200 | L15: =세입세출!E82 -> 1200 | M15: =L15-K15 -> 0 | N15: =M15/K15% -> 0
B16: 전입금 | C16: 계 | D16: =세입세출!D24 -> 20800 | E16: =세입세출!E24 -> 31500 | F16: =E16-D16 -> 10700 | G16: =F16/D16% -> 51.442308 | I16: 운영비 | J16: 계 | K16: =세입세출!D89 -> 13796.8 | L16: =세입세출!E89 -> 13736.8 | M16: =L16-K16 -> -60 | N16: =M16/K16% -> -0.43488345
C17: 전입금 | D17: =세입세출!D25 -> 20800 | E17: =세입세출!E25 -> 31500 | F17: =E17-D17 -> 10700 | G17: =F17/D17% -> 51.442308 | J17: 여비 | K17: =세입세출!D90 -> 1520 | L17: =세입세출!E90 -> 1520 | M17: =L17-K17 -> 0 | N17: =M17/K17% -> 0
A18: 이월금 | B18: 계 | D18: =세입세출!D30 -> 178895.26 | E18: =세입세출!E30 -> 189958.86 | F18: =E18-D18 -> 11063.603 | G18: =F18/D18% -> 6.1844025 | J18: 수용비 및 수수료 | K18: =세입세출!D94 -> 4147.2 | L18: =세입세출!E94 -> 4147.2 | M18: =L18-K18 -> 0 | N18: =M18/K18% -> 0
B19: 이월금 | C19: 계 | D19: =세입세출!D30 -> 178895.26 | E19: =세입세출!E30 -> 189958.86 | F19: =E19-D19 -> 11063.603 | G19: =F19/D19% -> 6.1844025 | J19: 공공요금 | K19: =세입세출!D102 -> 5619.6 | L19: =세입세출!E102 -> 5619.6 | M19: =L19-K19 -> 0 | N19: =M19/K19% -> 0
C20: 전년도이월금 | D20: =세입세출!D31 -> 178895.26 | E20: =세입세출!E31 -> 189958.86 | F20: =E20-D20 -> 11063.603 | G20: =F20/D20% -> 6.1844025 | J20: 제세공과금 | K20: =세입세출!D107 -> 910 | L20: =세입세출!E107 -> 900 | M20: =L20-K20 -> -10 | N20: =M20/K20% -> -1.0989011
A21: 잡수입 | B21: 계 | D21: =세입세출!D37 -> 560 | E21: =세입세출!E37 -> 560 | F21: =E21-D21 -> 0 | G21: =F21/D21% -> 0 | J21: 차량비 | K21: =세입세출!D112 -> 1600 | L21: =세입세출!E112 -> 1550 | M21: =L21-K21 -> -50 | N21: =M21/K21% -> -3.125
B22: 잡수입 | C22: 예금이자수입 | D22: =세입세출!D38 -> 60 | E22: =세입세출!E38 -> 60 | F22: =E22-D22 -> 0 | G22: =F22/D22% -> 0 | H22: 재산조성비 | I22: 시설비 | J22: 계 | K22: =세입세출!D116 -> 2000 | L22: =세입세출!E116 -> 2000 | M22: =L22-K22 -> 0 | N22: =M22/K22% -> 0
C23: 기타잡수입 | D23: =세입세출!D39 -> 500 | E23: =세입세출!E39 -> 500 | F23: =E23-D23 -> 0 | G23: =F23/D23% -> 0 | J23: 시설장비유지비 | K23: =세입세출!D117 -> 1000 | L23: =세입세출!E117 -> 1000 | M23: =L23-K23 -> 0 | N23: =M23/K23% -> 0
J24: 자산취득비 | K24: =세입세출!D120 -> 1000 | L24: =세입세출!E120 -> 1000 | M24: =L24-K24 -> 0 | N24: =M24/K24% -> 0
H25: 사업비 | I25: 사업비 | J25: 계 | K25: =세입세출!D127 -> 45910.35 | L25: =세입세출!E127 -> 45805.64 | M25: =L25-K25 -> -104.71 | N25: =M25/K25% -> -0.22807493
J26: 정보센터운영사업 | K26: =세입세출!D128 -> 150 | L26: =세입세출!E128 -> 150 | M26: =L26-K26 -> 0 | N26: =M26/K26% -> 0
J27: 뇌병변지원사업 | K27: =세입세출!D135 -> 11300 | L27: =세입세출!E135 -> 11300 | M27: =L27-K27 -> 0 | N27: =M27/K27% -> 0
J28: 부모지원사업 | K28: =세입세출!D146 -> 3770 | L28: =세입세출!E146 -> 3770 | M28: =L28-K28 -> 0 | N28: =M28/K28% -> 0
J29: 가족통합지원사업 | K29: =세입세출!D154 -> 2100 | L29: =세입세출!E154 -> 2100 | M29: =L29-K29 -> 0 | N29: =M29/K29% -> 0
J30: 단체네트워크사업 | K30: =세입세출!D164 -> 600 | L30: =세입세출!E164 -> 600 | M30: =L30-K30 -> 0 | N30: =M30/K30% -> 0
J31: 청소년지원사업 | K31: =세입세출!D168 -> 100 | L31: =세입세출!E168 -> 100 | M31: =L31-K31 -> 0 | N31: =M31/K31% -> 0
J32: 자원개발사업 | K32: =세입세출!D172 -> 1300 | L32: =세입세출!E172 -> 1300 | M32: =L32-K32 -> 0 | N32: =M32/K32% -> 0
J33: 기획사업 | K33: =세입세출!D179 -> 2000 | L33: =세입세출!E179 -> 2000 | M33: =L33-K33 -> 0 | N33: =M33/K33% -> 0
J34: 직원교육사업 | K34: =세입세출!D186 -> 2200 | L34: =세입세출!E186 -> 2200 | M34: =L34-K34 -> 0 | N34: =M34/K34% -> 0
H35: 사업비 | I35: 사업비 | J35: 의류리폼사업 | K35: =세입세출!D191 -> 5390.35 | L35: =세입세출!E191 -> 5285.64 | M35: =L35-K35 -> -104.71 | N35: -
J36: 기타사업 | K36: =세입세출!D194 -> 1000 | L36: =세입세출!E194 -> 1000 | M36: =L36-K36 -> 0 | N36: =M36/K36% -> 0
J37: 외부지원사업 | K37: =세입세출!D202 -> 16000 | L37: =세입세출!E202 -> 16000 | M37: =L37-K37 -> 0 | N37: =M37/K37% -> 0
H38: 잡지출 | I38: 잡지출 | J38: 계 | K38: =세입세출!D207 -> 100 | L38: =세입세출!E207 -> 100 | M38: =L38-K38 -> 0 | N38: =M38/K38% -> 0
J39: 잡지출 | K39: =세입세출!D208 -> 100 | L39: =세입세출!E208 -> 100 | M39: =L39-K39 -> 0 | N39: =M39/K39% -> 0
H40: 예비비 | I40: 예비비 | J40: 계 | K40: =세입세출!D210 -> 2000 | L40: =세입세출!E210 -> 2000 | M40: =L40-K40 -> 0 | N40: =M40/K40% -> 0
J41: 예비비 | K41: =세입세출!D211 -> 2000 | L41: =세입세출!E211 -> 2000 | M41: =L41-K41 -> 0 | N41: =M41/K41% -> 0
H42: 전출금 | I42: 전출금 | J42: 계 | K42: =세입세출!D212 -> 40000 | L42: =세입세출!E212 -> 20000 | M42: =L42-K42 -> -20000 | N42: 100
J43: 전출금 | K43: =세입세출!D213+세입세출!D214 -> 40000 | L43: =세입세출!E213+세입세출!E214 -> 20000 | M43: =L43-K43 -> -20000 | N43: 100
H44: 적립금 | I44: 적립금 | J44: 계 | K44: =세입세출!D215 -> 175366.44 | L44: =세입세출!E215 -> 186638.9 | M44: =L44-K44 -> 11272.463 | N44: =M44/K44% -> 6.4279476
J45: 법인적립금 | K45: =세입세출!D216 -> 175366.44 | L45: =세입세출!E216 -> 186638.9 | M45: =L45-K45 -> 11272.463 | N45: =M45/K45% -> 6.4279476

Sheet 세입세출
A1: 1. 세입내역(1)
M2: (단위:천원) | N2: 세입내역 | O2: 세입내역 | P2: 보조금 | Q2: 후원금 | R2: 자부담 | S2: 의류리폼 | T2: 외부지원사업 | U2: 합계
A3: 과 목 | C3: 목 | D3: 2024년 2차 추경예산 | E3: 2025년 예산(안) | F3: 비교증감 | G3: 산 출 기 초 | O3: 경상보조금 | P3: =N8 -> 58000000 | U3: =SUM(P3:S3) -> 58000000 | V3: 세출구분 | W3: 보조금 | X3: 후원금 | Y3: 자부담 | Z3: 의류리폼 | AA3: 외부사업
A4: 관 | B4: 항 | C4: 목 | O4: 기타보조금 | P4: =N10 -> 2600000 | U4: =SUM(P4:S4) -> 2600000 | V4: 사무비 | W4: =P26+P31+P39 -> 71650000 | X4: =Q26+Q31+Q39 -> 7490160 | Y4: =R26+R31+R39 -> 33719800 | Z4: =S26+S31+S39 -> 20714360 | AB4: =SUM(W4:AA4) -> 133574320
A5: 총계 | D5: =D6+D15+D23+D30+D37 -> 394370.28 | E5: =E6+E15+E23+E29+E36 -> 390118.86 | F5: =ROUNDUP(E5-D5,0) -> -4252 | G5: 보조금: 74,600,000 후원금: 244,119,551 자부담 : 71,399,314 | M5: =G6+G15+G23+G29+G36 -> 390118865 | O5: 프로그램지원금 | P5: =N13 -> 14000000 | U5: =SUM(P5:S5) -> 14000000 | V5: 재산조성비 | W5: =P44 -> 0 | X5: =Q44 -> 1000000 | Y5: =R44 -> 1000000 | Z5: =S44 -> 0 | AB5: =SUM(W5:AA5) -> 2000000
A6: 보조금수입 | B6: 계 | D6: =80615020*0.001 -> 80615.02 | E6: =G6*0.001 -> 74600 | F6: =E6-D6 -> -6015.02 | G6: =G7 -> 74600000 | O6: 지정후원금 | Q6: 7300000 | S6: 25200000 | T6: =M20 -> 25000000 | U6: =SUM(P6:T6) -> 57500000 | V6: 사업비 | W6: =P59 -> 2950000 | X6: =Q59 -> 22370000 | Y6: =R59 -> 1000000 | Z6: =S59 -> 4485640 | AA6: 10000000 | AB6: =SUM(W6:AA6) -> 40805640
B7: 보조금수입 | D7: =80615020*0.001 -> 80615.02 | E7: =G7*0.001 -> 74600 | F7: =E7-D7 -> -6015.02 | G7: =M9+M11+M12+M14 -> 74600000 | O7: 비지정후원금 | Q7: =M22 -> 36000000 | U7: =SUM(P7:S7) -> 36000000 | V7: 잡지출 | W7: =P63 -> 0 | X7: =Q63 -> 0 | Y7: =R63 -> 100000 | Z7: =S63 -> 0 | AB7: =SUM(W7:AA7) -> 100000
C8: 경상보조금 | D8: =58015020*0.001 -> 58015.02 | E8: =G8*0.001 -> 58000 | F8: =E8-D8 -> -15.02 | G8: =M9 -> 58000000 | N8: =G8 -> 58000000 | O8: 전입금 | R8: =G25 -> 31500000 | U8: =SUM(P8:S8) -> 31500000 | V8: 예비비 | W8: =P68 -> 0 | X8: =Q68 -> 2000000 | Y8: =R68 -> 0 | Z8: =S68 -> 0 | AB8: =SUM(W8:AA8) -> 2000000
G9: 운영보조금 | H9: =58000000 -> 58000000 | I9: * | J9: 1 | K9: 년 | L9: = | M9: =H9*J9 -> 58000000 | O9: 후원금이월 | Q9: =M32 -> 27583258 | U9: =SUM(P9:S9) -> 27583258 | V9: 적립금 | W9: =P71 -> 0 | X9: =Q70 -> 28023098 | Y9: =R70 -> 17329514 | Z9: =S74 -> 0 | AB9: =SUM(W9:AA9) -> 45352612
C10: 기타보조금 | D10: =2600000*0.001 -> 2600 | E10: =G10*0.001 -> 2600 | F10: =E10-D10 -> 0 | G10: =M11+M12 -> 2600000 | N10: =G10 -> 2600000 | O10: 자부담이이월 | R10: =M33 -> 16572234 | V10: 2021년 적립금 | W10: =P70 -> 0 | X10: =Q71 -> 57216035 | Y10: =R71 -> 13000000 | AB10: =SUM(W10:AA10) -> 70216035
G11: 가을나들이 | H11: 1000000 | I11: * | J11: 1 | K11: 년 | L11: = | M11: =H11*J11 -> 1000000 | O11: 의류리폼이월 | U11: =SUM(P11:S11) -> 0 | V11: 2022년 적립금 | W11: =P71 -> 0 | X11: =Q72 -> 60820258 | Y11: =R72 -> 0 | AB11: =SUM(W11:AA11) -> 60820258
G12: 비영리민간단체 | H12: 1600000 | I12: * | J12: 1 | K12: 년 | L12: = | M12: =H12*J12 -> 1600000 | O12: 공동모금회 이월 | V12: 2023년 적립금 | W12: =P73 -> 0 | X12: =Q73 -> 5000000 | Y12: =R73 -> 5250000 | Z12: =S73 -> 0 | AA12: =T73 -> 0 | AB12: =SUM(W12:AA12) -> 10250000
C13: 프로그램지원 | D13: =20000000*0.001 -> 20000 | E13: =G13*0.001 -> 14000 | F13: =E13-D13 -> -6000 | G13: 14000000 | N13: =G13 -> 14000000 | O13: 후원적립금이월 | Q13: =M34 -> 123036293 | U13: =SUM(P13:S13) -> 123036293 | V13: 전출금 | X13: 20000000 | Y13: 0 | AA13: 0 | AB13: =SUM(W13:AA13) -> 20000000
G14: 부산시부모프로그램 | H14: 14000000 | I14: * | J14: 1 | K14: 회 | L14: = | M14: =H14*J14 -> 14000000 | O14: 자부담적립금이월 | R14: =M35 -> 22767080 | U14: =SUM(P14:S14) -> 22767080 | V14: 세출 | W14: =SUM(W4:W10) -> 74600000 | X14: =SUM(X4:X13)+S80+T80 -> 254119551 | Y14: =SUM(Y4:Y13) -> 71399314 | AB14: =SUM(W14:AA14) -> 400118865
A15: 후원금수입 | B15: 계 | D15: =113500000*0.001 -> 113500 | E15: =G15*0.001 -> 93500 | F15: =E15-D15 -> -20000 | G15: =G16 -> 93500000 | O15: 잡수입 | Q15: 0 | R15: 560000 | U15: =SUM(P15:S15) -> 560000 | V15: 세입 | W15: =P16 -> 74600000 | X15: =Q16+S16+T16 -> 244119551 | Y15: =R16 -> 71399314 | AB15: =SUM(W15:AA15) -> 390118865
B16: 후원금수입 | D16: =113500000*0.001 -> 113500 | E16: =G16*0.001 -> 93500 | F16: =E16-D16 -> -20000 | G16: =G17+G21 -> 93500000 | O16: 합계 | P16: =SUM(P3:P15) -> 74600000 | Q16: =SUM(Q6:Q15) -> 193919551 | R16: =SUM(R3:R15) -> 71399314 | S16: =SUM(S3:S15) -> 25200000 | T16: =SUM(T3:T15) -> 25000000 | U16: =SUM(P16:T16) -> 390118865 | V16: 차액 | W16: 0 | X16: =X15-X14 -> -10000000 | Y16: =Y15-Y14 -> 0 | Z16: =Z15-Z14 -> 0 | AA16: =AA15-AA14 -> 0 | AB16: =AB15-AB14 -> -10000000
C17: 지정후원금 | D17: =77500000*0.001 -> 77500 | E17: =G17*0.001 -> 57500 | F17: =E17-D17 -> -20000 | G17: =M18+M19+M20 -> 57500000 | P17: 후원+리폼_공동 | Q17: =Q16+S16+T16 -> 244119551 | X17: =X14-(Z4+Z6)-AA6 -> 218919551
F18: =E18-D18 -> 0 | G18: 부산 및 창원부모회 지원사업 | H18: 3250000 | I18: * | J18: 2 | K18: 회 | L18: = | M18: =H18*J18 -> 6500000 | P18: 리폼제외후원금 | Q18: =Q16+T16 -> 218919551 | R18: =P16+Q17+R16 -> 390118865
F19: =E19-D19 -> 0 | G19: 의류리폼 | H19: 26000000 | I19: * | J19: 1 | K19: 회 | L19: = | M19: =H19*J19 -> 26000000
F20: =E20-D20 -> 0 | G20: 외부지원사업 | H20: 25000000 | I20: * | J20: 1 | K20: 회 | L20: = | M20: =H20*J20 -> 25000000 | N20: 세출내역 | O20: 인건비 | P20: 보조금 | Q20: 후원금 | R20: 자부담 | S20: 의류리폼 | T20: 외부지원사업 | U20: 합계 | W20: 후원 세출합 : | X20: =SUM(X4:X13) -> 203919551
C21: 비지정후원금 | D21: =36000000*0.001 -> 36000 | E21: =G21*0.001 -> 36000 | F21: =E21-D21 -> 0 | G21: =M22 -> 36000000 | O21: 급여 | P21: =N48 -> 51884800 | R21: =N49 -> 6800000 | S21: =M50 -> 14700000 | U21: =SUM(P21:T21) -> 73384800
F22: =E22-D22 -> 0 | G22: 비지정후원금 | H22: 3000000 | I22: * | J22: 12 | K22: 회 | L22: = | M22: =H22*J22 -> 36000000 | O22: 제수당 | P22: =M55+M58 -> 5508480 | R22: =M53+M56+M57+M59+N59 -> 14712000 | S22: =M54+3124800 -> 3824800 | U22: =SUM(P22:T22) -> 24045280
A23: 전입금 | B23: 계 | D23: =20800000*0.001 -> 20800 | E23: =E24 -> 31500 | F23: =E23-D23 -> 10700 | G23: =G25 -> 31500000 | O23: 퇴직금 | P23: =M63-100000 -> 3649440 | R23: =M64+99960+40-260400 -> 2226000 | S23: 260400 | U23: =SUM(P23:T23) -> 6135840 | X23: 37516808+16078841+8977890+1980000
B24: 전입금 | D24: =20800000*0.001 -> 20800 | E24: =E25 -> 31500 | F24: =E24-D24 -> 10700 | G24: =G25 -> 31500000 | O24: 사회부담금 | P24: =AE48 -> 4560640 | R24: =AE49 -> 2781800 | S24: =AG50 -> 1929160 | U24: =SUM(P24:T24) -> 9271600
C25: 전입금 | D25: =20800000*0.001 -> 20800 | E25: =G25*0.001 -> 31500 | F25: =E25-D25 -> 10700 | G25: =M26+M27+M28 -> 31500000 | O25: 기타후생 | R25: =G74 -> 1600000 | U25: =SUM(P25:T25) -> 1600000
F26: =E26-D26 -> 0 | G26: 본회지원금 | H26: 12000000 | I26: * | J26: 2 | K26: 회 | L26: = | M26: =H26*J26 -> 24000000 | O26: 합계 | P26: =SUM(P21:P25) -> 65603360 | Q26: =SUM(Q21:Q25) -> 0 | R26: =SUM(R21:R25) -> 28119800 | S26: =SUM(S21:S25) -> 20714360 | U26: =SUM(P26:T26) -> 114437520
F27: =E27-D27 -> 0 | G27: 장애인고용장려금 등 | H27: 5000000 | I27: * | J27: 1 | K27: 회 | L27: = | M27: =H27*J27 -> 5000000 | W27: 리폼사 4대보험 | AD27: 팀장 4대보험 | AK27: 간사 4대보험
F28: =E28-D28 -> 0 | G28: 오뚜기축제지원금 | H28: 2500000 | I28: * | J28: 1 | K28: 회 | L28: = | M28: =H28*J28 -> 2500000 | O28: 업무추진비 | P28: 보조금 | Q28: 후원금 | R28: 자부담 | S28: 의류리폼 | U28: 합계 | AD28: 보조금 | AK28: 보조금분이지만 예산없어서 자부담으로 진행
A29: 이월금 | B29: 계 | D29: =178895262*0.001 -> 178895.26 | E29: =E30 -> 189958.86 | F29: =E29-D29 -> 11063.603 | G29: =G31 -> 189958865 | O29: 기관운영비 | P29: 0 | Q29: 0 | R29: =G79 -> 4200000 | S29: 0 | U29: =SUM(P29:T29) -> 4200000 | W29: =14700000+700000 -> 15400000 | X29: * | Y29: 3.545 | Z29: % | AA29: = | AB29: =ROUNDDOWN(W29*Y29%,-1) -> 545930 | AD29: =38284800+3828480+1680000 -> 43793280 | AE29: * | AF29: 3.545 | AG29: % | AH29: = | AI29: =ROUNDDOWN(AD29*AF29%,-1) -> 1552470 | AK29: 13600000 | AL29: * | AM29: 3.545 | AN29: % | AO29: = | AP29: =ROUNDDOWN(AK29*AM29%,-1) -> 482120
B30: 이월금 | D30: =178895262*0.001 -> 178895.26 | E30: =189958865*0.001 -> 189958.86 | F30: =E30-D30 -> 11063.603 | G30: =G31 -> 189958865 | O30: 회의비 | P30: =SUM(P27) -> 0 | Q30: =SUM(Q27) -> 0 | R30: =G82 -> 1200000 | S30: =SUM(S27) -> 0 | U30: =SUM(P30:T30) -> 1200000 | W30: 545930 | X30: * | Y30: 12.95 | Z30: % | AA30: = | AB30: =ROUNDDOWN(W30*Y30%,-1) -> 70690 | AD30: 1552470 | AE30: * | AF30: 12.95 | AG30: % | AH30: = | AI30: =ROUNDDOWN(AD30*AF30%,-1) -> 201040 | AK30: 482120 | AL30: * | AM30: 12.95 | AN30: % | AO30: = | AP30: =ROUNDDOWN(AK30*AM30%,-1) -> 62430
C31: 전년도이월금 | D31: =178895262*0.001 -> 178895.26 | E31: =G31*0.001 -> 189958.86 | F31: =E31-D31 -> 11063.603 | G31: =M32+M33+M34+M35 -> 189958865 | O31: 합계 | P31: =SUM(P28) -> 0 | Q31: =SUM(Q28) -> 0 | R31: =SUM(R29:R30) -> 5400000 | S31: =SUM(S28) -> 0 | U31: =SUM(P31:T31) -> 5400000 | W31: =14700000+700000 -> 15400000 | X31: * | Y31: 4.5 | Z31: % | AA31: = | AB31: =ROUNDDOWN(W31*Y31%,-1) -> 693000 | AD31: =38284800+3828480+1680000 -> 43793280 | AE31: * | AF31: 4.5 | AG31: % | AH31: = | AI31: =ROUNDDOWN(AD31*AF31%,-1) -> 1970690 | AK31: 13600000 | AL31: * | AM31: 4.5 | AN31: % | AO31: = | AP31: =ROUNDDOWN(AK31*AM31%,-1) -> 612000
G32: 후원금 이월 | H32: 27583258 | I32: * | J32: 1 | K32: 회 | L32: = | M32: =H32*J32 -> 27583258 | W32: =14700000+700000 -> 15400000 | X32: * | Y32: 1.15 | Z32: % | AA32: = | AB32: =ROUNDDOWN(W32*Y32%,-1) -> 177100 | AD32: =38284800+3828480+1680000 -> 43793280 | AE32: * | AF32: 1.15 | AG32: % | AH32: = | AI32: =ROUNDDOWN(AD32*AF32%,-1) -> 503620 | AK32: 13600000 | AL32: * | AM32: 1.15 | AN32: % | AO32: = | AP32: =ROUNDDOWN(AK32*AM32%,-1) -> 156400
G33: 자부담 이월 | H33: 16572234 | I33: * | J33: 1 | K33: 회 | L33: = | M33: =H33*J33 -> 16572234 | O33: 운영비 | P33: 보조금 | Q33: 후원금 | R33: 자부담 | S33: 의류리폼 | U33: 합계 | W33: =14700000+700000 -> 15400000 | X33: * | Y33: 0.76 | Z33: % | AA33: = | AB33: =ROUNDDOWN(W33*Y33%,-1) -> 117040 | AD33: =38284800+3828480+1680000 -> 43793280 | AE33: * | AF33: 0.76 | AG33: % | AH33: = | AI33: =ROUNDDOWN(AD33*AF33%,-1) -> 332820 | AK33: 13600000 | AL33: * | AM33: 0.76 | AN33: % | AO33: = | AP33: =ROUNDDOWN(AK33*AM33%,-1) -> 103360
G34: 후원적립금 이월 | H34: 123036293 | I34: * | J34: 1 | K34: 회 | L34: = | M34: =H34*J34 -> 123036293 | O34: 여비 | P34: 100000 | Q34: 1420000 | U34: =SUM(P34:T34) -> 1520000 | X34: * | Y34: 1 | Z34: 명 | AA34: = | AB34: =W34*Y34 -> 0 | AE34: * | AF34: 1 | AG34: 명 | AH34: = | AI34: =AD34*AF34 -> 0 | AL34: * | AM34: 1 | AN34: 명 | AO34: = | AP34: =AK34*AM34 -> 0
G35: 자부담적립금 이월 | H35: 22767080 | I35: * | J35: 1 | K35: 회 | L35: = | M35: =H35*J35 -> 22767080 | O35: 수용비및수수료 | P35: =P101 -> 1497040 | Q35: =Q101 -> 2450160 | R35: =R101 -> 200000 | U35: =SUM(P35:T35) -> 4147200 | AB35: =SUM(AB29:AB34) -> 1603760 | AI35: =SUM(AI29:AI34) -> 4560640 | AP35: =SUM(AP29:AP34) -> 1416310
A36: 잡수입 | B36: 계 | D36: =560000*0.001 -> 560 | E36: =E37 -> 560 | F36: =E36-D36 -> 0 | G36: =G37 -> 560000 | O36: 공공요금 | P36: =P107 -> 4209600 | Q36: =Q107 -> 1410000 | U36: =SUM(P36:T36) -> 5619600 | AD36: 자부담 | AK36: 자부담
B37: 잡수입 | D37: =560000*0.001 -> 560 | E37: =G37*0.001 -> 560 | F37: =E37-D37 -> 0 | G37: =M38+M39 -> 560000 | O37: 제세공과금 | P37: =P113 -> 0 | Q37: =Q113 -> 900000 | U37: =SUM(P37:T37) -> 900000 | AD37: =1200000 -> 1200000 | AE37: * | AF37: 3.545 | AG37: % | AH37: = | AI37: =ROUNDDOWN(AD37*AF37%,-1) -> 42540 | AK37: =(1700000*4)+(446400*5)+840000+2040000 -> 11912000 | AL37: * | AM37: 3.545 | AN37: % | AO37: = | AP37: =ROUNDDOWN(AK37*AM37%,-1) -> 422280
C38: 예금이자수입 | D38: =60000*0.001 -> 60 | E38: =M38*0.001 -> 60 | F38: =E38-D38 -> 0 | G38: 예금이자수입 | H38: 60000 | I38: * | J38: 1 | K38: 회 | L38: = | M38: =H38*J38 -> 60000 | O38: 차량비 | P38: =P118 -> 240000 | Q38: =Q118 -> 1310000 | U38: =SUM(P38:T38) -> 1550000 | AD38: 42540 | AE38: * | AF38: 12.95 | AG38: % | AH38: = | AI38: =ROUNDDOWN(AD38*AF38%,-1) -> 5500 | AK38: 422280 | AL38: * | AM38: 12.95 | AN38: % | AO38: = | AP38: =ROUNDDOWN(AK38*AM38%,-1) -> 54680
C39: 기타잡수입 | D39: =500000*0.001 -> 500 | E39: =M39*0.001 -> 500 | F39: =E39-D39 -> 0 | G39: 프로그램 회비, 보증금 반환금 등 | H39: 500000 | I39: * | J39: 1 | K39: 회 | L39: = | M39: =H39*J39 -> 500000 | O39: 합계 | P39: =SUM(P34:P38) -> 6046640 | Q39: =SUM(Q34:Q38) -> 7490160 | R39: =SUM(R34:R38) -> 200000 | S39: 0 | U39: =SUM(P39:T39) -> 13736800 | AD39: =1200000 -> 1200000 | AE39: * | AF39: 4.5 | AG39: % | AH39: = | AI39: =ROUNDDOWN(AD39*AF39%,-1) -> 54000 | AK39: =(1700000*4)+(446400*5)+840000+2040000 -> 11912000 | AL39: * | AM39: 4.5 | AN39: % | AO39: = | AP39: =ROUNDDOWN(AK39*AM39%,-1) -> 536040
A40: 2. 세출내역(1) | AD40: =1200000 -> 1200000 | AE40: * | AF40: 1.15 | AG40: % | AH40: = | AI40: =ROUNDDOWN(AD40*AF40%,-1) -> 13800 | AK40: =(1700000*4)+(446400*5)+840000+2040000 -> 11912000 | AL40: * | AM40: 1.15 | AN40: % | AO40: = | AP40: =ROUNDDOWN(AK40*AM40%,-1) -> 136980
M41: (단위:천원) | O41: 시설비 | P41: 보조금 | Q41: 후원금 | R41: 자부담 | S41: 의류리폼 | U41: 합계 | AD41: =1200000 -> 1200000 | AE41: * | AF41: 0.76 | AG41: % | AH41: = | AI41: =ROUNDDOWN(AD41*AF41%,-1) -> 9120 | AK41: =(1700000*4)+(446400*5)+840000+2040000 -> 11912000 | AL41: * | AM41: 0.76 | AN41: % | AO41: = | AP41: =ROUNDDOWN(AK41*AM41%,-1) -> 90530
A42: 과 목 | C42: 목 | D42: 2024년 2차 추경예산 | E42: 2025년 예산(안) | F42: 비교증감 | G42: 산 출 기 초 | O42: 시설장비유지비 | Q42: 1000000 | U42: =SUM(P42:T42) -> 1000000 | AE42: * | AF42: 1 | AG42: 명 | AH42: = | AI42: =AD42*AF42 -> 0 | AL42: * | AM42: 1 | AN42: 명 | AO42: = | AP42: =AK42*AM42 -> 0
A43: 관 | B43: 항 | C43: 목 | O43: 자산취득비 | R43: 1000000 | U43: =SUM(P43:T43) -> 1000000 | AI43: =SUM(AI37:AI42) -> 124960 | AP43: =SUM(AP37:AP42) -> 1240510 | AQ43: 10 | AR43: =SUM(AP43:AQ43) -> 1240520
A44: 총 계 | D44: =D45+D116+D127+D207+D210+D212+D216 -> 394370.28 | E44: =E45+E116+E127+E207+E210+E212+E215 -> 390118.86 | F44: =ROUNDUP(E44-D44,0) -> -4252 | G44: 보조금: 74,600,000 후원금: 193,919,551 리폼: 25,200,000 외부사업: 25,000,000 자부담: 71,399,314 | M44: =M45+M116+M127+M207+M210+M215+M212 -> 390118865 | O44: 합계 | P44: =SUM(P42:P43) -> 0 | Q44: =SUM(Q42:Q43) -> 1000000 | R44: =SUM(R42:R43) -> 1000000 | S44: =SUM(S42:S43) -> 0 | U44: =SUM(P44:T44) -> 2000000 | AG44: 엑셀맞추기위해 | AI44: 10 | AK44: 리폼자부담
A45: 사무비 | D45: =D46+D78+D89 -> 128993.49 | E45: =E46+E78+E89 -> 133574.32 | F45: =E45-D45 -> 4580.83 | G45: 보조금: 71,650,000 후원금: 7,490,160 리폼: 20,714,360 자부담: 33,719,800 | M45: =M46+M78+M89 -> 133574320 | AG45: 10원 자부담에 더함 | AI45: =SUM(AI43:AI44) -> 124970 | AK45: =446400*7 -> 3124800 | AL45: * | AM45: 3.545 | AN45: % | AO45: = | AP45: =ROUNDDOWN(AK45*AM45%,-1) -> 110770
B46: 인건비 | D46: =109796690*0.001 -> 109796.69 | E46: =(G47+G52+G62+G66+G74)*0.001 -> 114437.52 | F46: =E46-D46 -> 4640.83 | G46: 보조금: 65,603,360 리폼: 20,714,360 0자부담: 28,119,800 | M46: =G47+G52+G62+G66+G74 -> 114437520 | O46: 사업비 | P46: 보조금 | Q46: 후원금 | R46: 자부담 | S46: 의류리폼 | T46: 외부지원사업 | U46: 합계 | AK46: 110770 | AL46: * | AM46: 12.95 | AN46: % | AO46: = | AP46: =ROUNDDOWN(AK46*AM46%,-1) -> 14340
C47: 급여 | D47: =71941200*0.001 -> 71941.2 | E47: =(G47*0.1%) -> 73384.8 | F47: =E47-D47 -> 1443.6 | G47: =M48+M49+M50 -> 73384800 | O47: 정보센터운영사업 | Q47: 150000 | U47: =SUM(P47:T47) -> 150000 | AD47: 총합 | AE47: =AI35+AI45+AP35+AR43+AR51 -> 7667840 | AK47: =446400*7 -> 3124800 | AL47: * | AM47: 4.5 | AN47: % | AO47: = | AP47: =ROUNDDOWN(AK47*AM47%,-1) -> 140610
G48: 팀장 | H48: 3190400 | I48: * | J48: 12 | K48: 월 | L48: = | M48: =H48*J48 -> 38284800 | N48: =M48+1700000*8 -> 51884800 | O48: 뇌병변지원사업 | P48: 1000000 | Q48: 10300000 | U48: =SUM(P48:T48) -> 11300000 | AD48: 보조금 | AE48: =AI35 -> 4560640 | AK48: =446400*7 -> 3124800 | AL48: * | AM48: 1.15 | AN48: % | AO48: = | AP48: =ROUNDDOWN(AK48*AM48%,-1) -> 35930
G49: 간사 | H49: 1700000 | I49: * | J49: 12 | K49: 월 | L49: = | M49: =H49*J49 -> 20400000 | N49: =1700000*4 -> 6800000 | O49: 부모지원사업 | P49: =P151 -> 350000 | Q49: =Q151 -> 3420000 | U49: =SUM(P49:T49) -> 3770000 | AD49: 자부담 | AE49: =AI45+AP35+AR43 -> 2781800 | AK49: =446400*7 -> 3124800 | AL49: * | AM49: 0.76 | AN49: % | AO49: = | AP49: =ROUNDDOWN(AK49*AM49%,-1) -> 23740
G50: 의류리폼사 | H50: 2100000 | I50: * | J50: 7 | K50: 월 | L50: = | M50: =H50*J50 -> 14700000 | O50: 가족통합지원사업 | P50: 1600000 | Q50: 500000 | U50: =SUM(P50:T50) -> 2100000 | AD50: 리폼자부담 | AE50: =AR51 -> 325400 | AF50: =AB35 -> 1603760 | AG50: =SUM(AE50:AF50) -> 1929160 | AL50: * | AM50: 1 | AN50: 명 | AO50: = | AP50: =AK50*AM50 -> 0
G51: 보조금: 51,884,800 자부담: 6,800,000 의류리폼: 14,700,000 | O51: 단체네트워크사업 | Q51: 600000 | U51: =SUM(P51:T51) -> 600000 | AP51: =SUM(AP45:AP50) -> 325390 | AQ51: 10 | AR51: =SUM(AP51:AQ51) -> 325400
C52: 제수당 | D52: =21580720*0.001 -> 21580.72 | E52: =(G52*0.1%) -> 24045.28 | F52: =E52-D52 -> 2464.56 | G52: =SUM(M53:M60) -> 24045280 | O52: 청소년지원사업 | Q52: 100000 | U52: =SUM(P52:T52) -> 100000
G53: 직책보조비(지회장) | H53: 700000 | I53: * | J53: 12 | K53: 월 | L53: = | M53: =H53*J53 -> 8400000 | N53: 자부담 | O53: 자원개발사업 | Q53: 1300000 | U53: =SUM(P53:T53) -> 1300000
G54: 정액급식비(의류리폼사) | H54: 100000 | I54: * | J54: 7 | K54: 월 | L54: = | M54: =H54*J54 -> 700000 | N54: 후원금 | O54: 홍보사업 | Q54: 2000000 | U54: =SUM(P54:T54) -> 2000000
G55: 명절수당(팀장) | H55: 1914240 | I55: * | J55: 2 | K55: 월 | L55: = | M55: =H55*J55 -> 3828480 | N55: 보조금 | O55: 직원교육사업 | Q55: 1200000 | R55: 1000000 | U55: =SUM(P55:T55) -> 2200000
G56: 명절수당(간사) | H56: 1020000 | I56: * | J56: 2 | K56: 월 | L56: = | M56: =H56*J56 -> 2040000 | N56: 자부담 | O56: 의류리폼사업 | Q56: 800000 | S56: 4485640 | U56: =SUM(P56:T56) -> 5285640
G57: 직책수당(팀장) | H57: 100000 | I57: * | J57: 12 | K57: 월 | L57: = | M57: =H57*J57 -> 1200000 | N57: 자부담 | O57: 기타사업 | Q57: 1000000 | U57: =SUM(P57:T57) -> 1000000
G58: 가족수당(팀장) | H58: 140000 | I58: * | J58: 12 | K58: 월 | L58: = | M58: =H58*J58 -> 1680000 | N58: =M55+M58 -> 5508480 | O58: 외부지원사업 | Q58: 1000000 | T58: 15000000 | U58: =SUM(P58:T58) -> 16000000
G59: 가족수당(간사) | H59: 70000 | I59: * | J59: 12 | K59: 월 | L59: = | M59: =H59*J59 -> 840000 | N59: =446400*5 -> 2232000 | O59: 합계 | P59: =SUM(P46:P56) -> 2950000 | Q59: =SUM(Q47:Q58) -> 22370000 | R59: =SUM(R47:R58) -> 1000000 | S59: =SUM(S47:S56) -> 4485640 | T59: =SUM(T47:T58) -> 15000000 | U59: =SUM(P59:T59) -> 45805640 | W59: 2025 간사 시간외수당 | Z59: 퇴직적립금
G60: 시간외수당(간사) | H60: 446400 | I60: * | J60: 12 | K60: 월 | L60: = | M60: =H60*J60 -> 5356800 | N60: =M56+M53+M57+M59+N59 -> 14712000 | W60: =(((1700000+70000)*12)+2040000)/12 -> 1940000 | X60: 2025년 간사 통상임금 | Z60: 보조금 | AA60: 자부담 | AB60: 리폼자부담(시간외수당분7개월)
G61: 보조금: 5,508,480 의류리폼: 3,824,800 자부담: 14,712,000 | N61: 보조금+자부담 | O61: 잡지출 | P61: 보조금 | Q61: 후원금 | R61: 자부담 | S61: 의류리폼 | U61: 합계 | W61: =1940000*1.5/130.35 -> 22324.511 | X61: 시간외수당 1시간급여 | Z61: 3649440 | AA61: 100000 | AB61: 260400
C62: 퇴직금 및 퇴직적립금 | D62: =5810160*0.001 -> 5810.16 | E62: =(G62*0.1%) -> 6135.84 | F62: =E62-D62 -> 325.68 | G62: =SUM(M63:M64) -> 6135840 | N62: 자부담 | O62: 잡지출 | P62: 0 | R62: 100000 | U62: =SUM(P62:S62) -> 100000 | W62: =22320*20 -> 446400 | X62: 20시간 시간외수당 | AA62: 2126000
G63: 퇴직적립금(팀장) | H63: =((M48+M55+M57+M58)*1/12)/12 -> 312453.33 | I63: * | J63: 12 | K63: 월 | L63: = | M63: =ROUNDDOWN(H63*J63,-1) -> 3749440 | N63: =M64+100000 -> 2486400 | O63: 합계 | P63: =SUM(P62) -> 0 | Q63: =SUM(Q62) -> 0 | R63: =SUM(R62) -> 100000 | U63: =SUM(P63:T63) -> 100000 | Z63: =SUM(Z61:Z62) -> 3649440 | AA63: =SUM(AA61:AA62) -> 2226000 | AB63: =SUM(AB61:AB62) -> 260400
G64: 퇴직적립금(간사) | H64: =((M49+M56+M59+M60)*1/12)/12 -> 198866.67 | I64: * | J64: 12 | K64: 월 | L64: = | M64: =ROUNDDOWN(H64*J64,-1) -> 2386400
G65: 보조금: 3,649,440 자부담: 2,226,000 의류리폼: 260,400 | O65: 예비비 | P65: 보조금 | Q65: 후원금 | R65: 자부담 | S65: 의류리폼 | U65: 합계
C66: 사회보험 부담금 | D66: =8864610*0.001 -> 8864.61 | E66: =(G66*0.1%) -> 9271.6 | F66: =E66-D66 -> 406.99 | G66: =SUM(M67:M72) -> 9271600 | O66: 예비비 | Q66: 2000000 | U66: =SUM(P66:T66) -> 2000000
G67: 건강보험료 | H67: =M48+M49+M55+M56+M57+M58+M59+M60 -> 73630080 | I67: * | J67: 3.545 | K67: % | L67: = | M67: =ROUNDDOWN(H67*J67%,-1)-10 -> 2610170 | Q67: 0 | U67: =SUM(P67:T67) -> 0
G68: 장기요양보험료 | H68: =M67 -> 2610170 | I68: * | J68: 12.95 | K68: % | L68: = | M68: =ROUNDDOWN(H68*J68%,-1)-10 -> 338000 | O68: 합계 | P68: 0 | Q68: =Q66+Q67 -> 2000000 | S68: =SUM(S66) -> 0 | U68: =SUM(P68:T68) -> 2000000
C69: ` | G69: 국민연금 | H69: =H67 -> 73630080 | I69: * | J69: 4.5 | K69: % | L69: = | M69: =ROUNDDOWN(H69*J69%,-1) -> 3313350 | O69: 적립금 | P69: 보조금 | Q69: 후원금 | R69: 자부담 | S69: 의류리폼
G70: 고용보험 | H70: =H67 -> 73630080 | I70: * | J70: 1.15 | K70: % | L70: = | M70: =ROUNDDOWN(H70*J70%,-1) -> 846740 | O70: 적립금 | P70: 0 | Q70: =9579898+2543090+4398270+503760+10998080 -> 28023098 | R70: =22413631-3523520-600000-34980-200000-1000000+274383 -> 17329514 | U70: =SUM(P70:T70) -> 45352612
G71: 산재보험 | H71: =H67 -> 73630080 | I71: * | J71: 0.76 | K71: % | L71: = | M71: =ROUNDDOWN(H71*J71%,-1) -> 559580 | O71: 2021년적립금 | Q71: 57216035 | R71: 13000000 | U71: =SUM(P71:T71) -> 70216035
G72: 의류리폼사(4대보험) | H72: 1603760 | I72: * | J72: 1 | K72: 명 | L72: = | M72: =H72*J72 -> 1603760 | O72: 2022년적립금 | Q72: 60820258 | R72: 0 | U72: =SUM(P72:T72) -> 60820258 | X72: 13333537 | Y72: 13000000
G73: 보조금: 4,560,640 의류리폼: 1,929,160 자부담: 2,781,800 | O73: 2023년 적립금 | Q73: 5000000 | R73: 5250000 | X73: 70216035 | Y73: 0
C74: 기타 후생경비 | D74: =1600000*0.001 -> 1600 | E74: =G74*0.1% -> 1600 | F74: =E74-D74 -> 0 | G74: =SUM(M75:M76) -> 1600000 | O74: 합계 | P74: =SUM(P70) -> 0 | Q74: =SUM(Q70:Q73) -> 151059391 | R74: =SUM(R70:R73) -> 35579514 | S74: =SUM(S70:S72) -> 0 | U74: =SUM(P74:T74) -> 186638905 | X74: =SUM(X72:X73) -> 83549572 | Y74: =SUM(Y72:Y73) -> 13000000 | Z74: 95336908
G75: 명절선물 | H75: 200000 | I75: * | J75: 2 | K75: 회 | L75: = | M75: =H75*J75 -> 400000 | O75: 전출금 | P75: 보조금 | Q75: 후원금 | R75: 자부담 | S75: 의류리폼 | T75: 외부지원사업
G76: 상임운영위원 등 명절선물 | H76: 600000 | I76: * | J76: 2 | K76: 회 | L76: = | M76: =H76*J76 -> 1200000 | O76: 전출금 | P76: 0 | Q76: 10000000 | R76: 0 | S76: 0 | T76: 10000000 | U76: =SUM(P76:T76) -> 20000000
G77: 자부담: 1,600,000 | U77: =SUM(P77:T77) -> 0 | V77: 26913273
B78: 업무추진비 | D78: =5400000*0.001 -> 5400 | E78: =E79+E82 -> 5400 | F78: =E78-D78 -> 0 | G78: 자부담: 5,400,000 | M78: =G79+G82 -> 5400000 | O78: 합계 | P78: =SUM(P76) -> 0 | Q78: =SUM(Q76:Q77) -> 10000000 | R78: =SUM(R76:R77) -> 0 | S78: =SUM(S76) -> 0 | T78: =SUM(T76) -> 10000000 | U78: =SUM(P78:T78) -> 20000000
C79: 기관운영비 | D79: =4200000*0.001 -> 4200 | E79: =(G79*0.1%) -> 4200 | F79: =E79-D79 -> 0 | G79: =SUM(M80:M80) -> 4200000 | O79: 총계 | P79: 보조금총합 | Q79: 후원금총합 | R79: 자부담총합 | S79: 의류리폼총합 | T79: 외부지원사업
G80: 업무관련 대내외비 | H80: 350000 | I80: * | J80: 12 | K80: 회 | L80: = | M80: =H80*J80 -> 4200000 | P80: =P26+P31+P39+P44+P59+P63+P68+P74 -> 74600000 | Q80: =Q26+Q31+Q39+Q44+Q59+Q63+Q68+Q74+Q78 -> 193919551 | R80: =R26+R31+R39+R44+R59+R63+R68+R74+R78 -> 71399314 | S80: =S26+S31+S39+S44+S59+S63+S68+S74 -> 25200000 | T80: =T26+T31+T39+T44+T59+T63+T68+T74+T78 -> 25000000 | U80: =SUM(P80:T80) -> 390118865
G81: 자부담: 4,200,000
C82: 회의비 | D82: =1200000*0.001 -> 1200 | E82: =(G82*0.1%) -> 1200 | F82: =E82-D82 -> 0 | G82: =SUM(M83:M83) -> 1200000 | O82: 세입 | P82: =P16 -> 74600000 | Q82: =Q16 -> 193919551 | R82: =R16 -> 71399314 | S82: =S16 -> 25200000 | T82: =T16 -> 25000000 | U82: =SUM(P82:T82) -> 390118865
G83: 상임운영위원회의비 등 | H83: 400000 | I83: * | J83: 3 | K83: 회 | L83: = | M83: =H83*J83 -> 1200000 | P83: =P82-P80 -> 0 | Q83: =Q82-Q80 -> 0 | R83: =R82-R80 -> 0 | S83: =S82-S80 -> 0 | T83: =T82-T80 -> 0
G84: 자부담: 1,200,000
A85: 2. 세출내역(2) | N85: 보조금 | O85: 후원금이월 | P85: 합계
M86: (단위:천원) | N86: =P39 -> 6046640 | O86: =Q39 -> 7490160 | P86: =SUM(N86:O86) -> 13536800
A87: 과 목 | C87: 목 | D87: 2024년 2차 추경예산 | E87: 2025년 예산(안) | F87: 비교증감 | G87: 산 출 기 초
A88: 관 | B88: 항 | C88: 목
B89: 운영비 | D89: =13796800*0.001 -> 13796.8 | E89: =M89*0.001 -> 13736.8 | F89: =E89-D89 -> -60 | G89: 보조금: 7,148,570 후원금: 6,448,230 자부담: 200,000 | M89: =G90+G94+G102+M107+G112 -> 13736800
C90: 여비 | D90: =1520000*0.001 -> 1520 | E90: =(G90*0.1%) -> 1520 | F90: =E90-D90 -> 0 | G90: =SUM(M91:M92) -> 1520000
G91: 시내교통비 | H91: 50000 | I91: * | J91: 4 | K91: 월 | L91: = | M91: =H91*J91 -> 200000
G92: 시외 출장비 | H92: 165000 | I92: * | J92: 8 | K92: 명 | L92: = | M92: =H92*J92 -> 1320000
G93: 보조금: 100,000 후원금: 1,420,000
C94: 수용비 및 수수료 | D94: =4147200*0.001 -> 4147.2 | E94: =(G94*0.1%) -> 4147.2 | F94: =E94-D94 -> 0 | G94: =SUM(M95:M100) -> 4147200 | N94: 보-운 | O94: 수용비및수수료 | P94: 보조금 | Q94: 후원금 | R94: 자부담 | S94: 합계
G95: 사무기기유지보수비 | H95: 121000 | I95: * | J95: 12 | K95: 월 | L95: = | M95: =H95*J95 -> 1452000 | N95: 후 | O95: 사무기기 | P95: 1452000 | Q95: 0 | S95: =SUM(P95:R95) -> 1452000
G96: CMS 및 지로수수료 | H96: 70000 | I96: * | J96: 12 | K96: 월 | L96: = | M96: =H96*J96 -> 840000 | N96: 보-운 | O96: 지로수수료 | P96: 0 | Q96: 840000 | S96: =SUM(P96:R96) -> 840000 | U96: 990000
G97: 회계, 회비프로그램 | H97: 94600 | I97: * | J97: 12 | K97: 월 | L97: = | M97: =H97*J97 -> 1135200 | N97: 보-사 / 후 | O97: 회계회비 | P97: 0 | Q97: 1135200 | S97: =SUM(P97:R97) -> 1135200 | T97: 94600 | U97: 1100000 | V97: =SUM(T97:U97) -> 1194600
G98: 사무용품구입비 | H98: 100000 | I98: * | J98: 2 | K98: 회 | L98: = | M98: =H98*J98 -> 200000 | N98: 후 | O98: 사무용품 | P98: 0 | Q98: 200000 | S98: =SUM(P98:R98) -> 200000 | T98: 4600을 주민세에서 가져옴 | U98: 11만원을 적립그에서 가져와야함 | V98: =1194600/12 -> 99550
G99: 홈페이지 유지보수비 | H99: 10000 | I99: * | J99: 12 | K99: 회 | L99: = | M99: =H99*J99 -> 120000 | N99: 보-운 / 후 | O99: 홈페이지 | P99: 0 | Q99: 120000 | S99: =SUM(P99:R99) -> 120000
G100: 기타 | H100: 200000 | I100: * | J100: 2 | K100: 회 | L100: = | M100: =H100*J100 -> 400000 | O100: 기타수수료 | P100: =35040+10000 -> 45040 | Q100: =200000-35040-10000 -> 154960 | R100: 200000 | S100: =SUM(P100:R100) -> 400000
...

Sheet 별첨 인건비 편성내역
